BEGIN:VCALENDAR
VERSION:2.0
PRODID:-//kreisaerzteschaft-heidenheim - ECPv6.15.17//NONSGML v1.0//EN
CALSCALE:GREGORIAN
METHOD:PUBLISH
X-ORIGINAL-URL:https://kreisaerzteschaft-heidenheim.de
X-WR-CALDESC:Veranstaltungen für kreisaerzteschaft-heidenheim
REFRESH-INTERVAL;VALUE=DURATION:PT1H
X-Robots-Tag:noindex
X-PUBLISHED-TTL:PT1H
BEGIN:VTIMEZONE
TZID:Europe/Berlin
BEGIN:DAYLIGHT
TZOFFSETFROM:+0100
TZOFFSETTO:+0200
TZNAME:CEST
DTSTART:20230326T010000
END:DAYLIGHT
BEGIN:STANDARD
TZOFFSETFROM:+0200
TZOFFSETTO:+0100
TZNAME:CET
DTSTART:20231029T010000
END:STANDARD
BEGIN:DAYLIGHT
TZOFFSETFROM:+0100
TZOFFSETTO:+0200
TZNAME:CEST
DTSTART:20240331T010000
END:DAYLIGHT
BEGIN:STANDARD
TZOFFSETFROM:+0200
TZOFFSETTO:+0100
TZNAME:CET
DTSTART:20241027T010000
END:STANDARD
BEGIN:DAYLIGHT
TZOFFSETFROM:+0100
TZOFFSETTO:+0200
TZNAME:CEST
DTSTART:20250330T010000
END:DAYLIGHT
BEGIN:STANDARD
TZOFFSETFROM:+0200
TZOFFSETTO:+0100
TZNAME:CET
DTSTART:20251026T010000
END:STANDARD
END:VTIMEZONE
BEGIN:VEVENT
DTSTART;TZID=Europe/Berlin:20241024T183000
DTEND;TZID=Europe/Berlin:20241024T203000
DTSTAMP:20260423T125920
CREATED:20241009T201305Z
LAST-MODIFIED:20241009T201305Z
UID:10000052-1729794600-1729801800@kreisaerzteschaft-heidenheim.de
SUMMARY:Neue Impulse aus dem Kontinenz- und Beckenbodenzentrum
DESCRIPTION:
URL:https://kreisaerzteschaft-heidenheim.de/veranstaltung/neue-impulse-aus-dem-kontinenz-und-beckenbodenzentrum/
LOCATION:Klinikum Heidenheim Hörsaal\, Schlosshausstraße 100\, Heidenheim\, Baden-Württemberg\, 89522\, Deutschland
CATEGORIES:Fortbildungen der Kreisärzteschaft,Sonstige Veranstaltungen
ATTACH;FMTTYPE=image/jpeg:https://kreisaerzteschaft-heidenheim.de/wp-content/uploads/2024/04/kreisaerzteschaft-kreisaerzteschaft.jpg
END:VEVENT
BEGIN:VEVENT
DTSTART;TZID=Europe/Berlin:20240914T083000
DTEND;TZID=Europe/Berlin:20240914T140000
DTSTAMP:20260423T125920
CREATED:20240731T195558Z
LAST-MODIFIED:20240912T041137Z
UID:10000044-1726302600-1726322400@kreisaerzteschaft-heidenheim.de
SUMMARY:5. Krebstag / Krebsmedizin im Krankenhaus der Zukunft
DESCRIPTION:
URL:https://kreisaerzteschaft-heidenheim.de/veranstaltung/5-krebstag-krebsmedizin-im-krankenhaus-der-zukunft/
LOCATION:Congress Centrum Heidenheim / kleiner Saal
CATEGORIES:Fortbildungen der Kreisärzteschaft,Sonstige Veranstaltungen
ATTACH;FMTTYPE=image/jpeg:https://kreisaerzteschaft-heidenheim.de/wp-content/uploads/2024/07/kreisaerzteschaft-Veranstaltungen.jpg
END:VEVENT
END:VCALENDAR