BEGIN:VCALENDAR
VERSION:2.0
PRODID:-//kreisaerzteschaft-heidenheim - ECPv6.15.17//NONSGML v1.0//EN
CALSCALE:GREGORIAN
METHOD:PUBLISH
X-ORIGINAL-URL:https://kreisaerzteschaft-heidenheim.de
X-WR-CALDESC:Veranstaltungen für kreisaerzteschaft-heidenheim
REFRESH-INTERVAL;VALUE=DURATION:PT1H
X-Robots-Tag:noindex
X-PUBLISHED-TTL:PT1H
BEGIN:VTIMEZONE
TZID:Europe/Berlin
BEGIN:DAYLIGHT
TZOFFSETFROM:+0100
TZOFFSETTO:+0200
TZNAME:CEST
DTSTART:20230326T010000
END:DAYLIGHT
BEGIN:STANDARD
TZOFFSETFROM:+0200
TZOFFSETTO:+0100
TZNAME:CET
DTSTART:20231029T010000
END:STANDARD
BEGIN:DAYLIGHT
TZOFFSETFROM:+0100
TZOFFSETTO:+0200
TZNAME:CEST
DTSTART:20240331T010000
END:DAYLIGHT
BEGIN:STANDARD
TZOFFSETFROM:+0200
TZOFFSETTO:+0100
TZNAME:CET
DTSTART:20241027T010000
END:STANDARD
BEGIN:DAYLIGHT
TZOFFSETFROM:+0100
TZOFFSETTO:+0200
TZNAME:CEST
DTSTART:20250330T010000
END:DAYLIGHT
BEGIN:STANDARD
TZOFFSETFROM:+0200
TZOFFSETTO:+0100
TZNAME:CET
DTSTART:20251026T010000
END:STANDARD
BEGIN:DAYLIGHT
TZOFFSETFROM:+0100
TZOFFSETTO:+0200
TZNAME:CEST
DTSTART:20260329T010000
END:DAYLIGHT
BEGIN:STANDARD
TZOFFSETFROM:+0200
TZOFFSETTO:+0100
TZNAME:CET
DTSTART:20261025T010000
END:STANDARD
END:VTIMEZONE
BEGIN:VEVENT
DTSTART;TZID=Europe/Berlin:20250312T170000
DTEND;TZID=Europe/Berlin:20250312T203000
DTSTAMP:20260421T133906
CREATED:20250120T062058Z
LAST-MODIFIED:20250223T172956Z
UID:10000059-1741798800-1741811400@kreisaerzteschaft-heidenheim.de
SUMMARY:Neuausrichtung der Allgemeinchirurgie am Klinikum HDH\, Vorstellung des Chefarztes Herrn Prof. Dr. Dr. Franck Billmann
DESCRIPTION:
URL:https://kreisaerzteschaft-heidenheim.de/veranstaltung/neuausrichtung-der-allgemeinchirurgie-am-klinikum-hdh-vorstellung-des-chefarztes-herrn-prof-dr-dr-franck-billmann/
LOCATION:Klinikum Heidenheim Hörsaal\, Schlosshausstraße 100\, Heidenheim\, Baden-Württemberg\, 89522\, Deutschland
CATEGORIES:Fortbildungen der Kreisärzteschaft
ATTACH;FMTTYPE=image/jpeg:https://kreisaerzteschaft-heidenheim.de/wp-content/uploads/2024/04/kreisaerzteschaft-kreisaerzteschaft.jpg
END:VEVENT
BEGIN:VEVENT
DTSTART;TZID=Europe/Berlin:20250212T180000
DTEND;TZID=Europe/Berlin:20250212T200000
DTSTAMP:20260421T133906
CREATED:20241015T185818Z
LAST-MODIFIED:20250202T052316Z
UID:10000055-1739383200-1739390400@kreisaerzteschaft-heidenheim.de
SUMMARY:4. Gesundheitskonferenz: "Effizienzsteigerung in der modernen Arztpraxis: Digitalisierung und Telemedizin"
DESCRIPTION:
URL:https://kreisaerzteschaft-heidenheim.de/veranstaltung/4-gesundheitskonferenz-effizienzsteigerung-in-der-modernen-arztpraxis-digitalisierung-und-telemedizin/
LOCATION:Klinikum Heidenheim Hörsaal\, Schlosshausstraße 100\, Heidenheim\, Baden-Württemberg\, 89522\, Deutschland
CATEGORIES:Fortbildungen der Kreisärzteschaft,Sonstige Veranstaltungen
ATTACH;FMTTYPE=image/jpeg:https://kreisaerzteschaft-heidenheim.de/wp-content/uploads/2024/04/kreisaerzteschaft-kreisaerzteschaft.jpg
END:VEVENT
BEGIN:VEVENT
DTSTART;TZID=Europe/Berlin:20250115T180000
DTEND;TZID=Europe/Berlin:20250115T203000
DTSTAMP:20260421T133906
CREATED:20240615T204410Z
LAST-MODIFIED:20250108T182732Z
UID:10000027-1736964000-1736973000@kreisaerzteschaft-heidenheim.de
SUMMARY:Cardioupdate 2025
DESCRIPTION:
URL:https://kreisaerzteschaft-heidenheim.de/veranstaltung/cardioupdate-2025/
LOCATION:Klinikum Heidenheim Hörsaal\, Schlosshausstraße 100\, Heidenheim\, Baden-Württemberg\, 89522\, Deutschland
CATEGORIES:Fortbildungen der Kreisärzteschaft
ATTACH;FMTTYPE=image/jpeg:https://kreisaerzteschaft-heidenheim.de/wp-content/uploads/2024/04/kreisaerzteschaft-kreisaerzteschaft.jpg
END:VEVENT
BEGIN:VEVENT
DTSTART;TZID=Europe/Berlin:20241214T180000
DTEND;TZID=Europe/Berlin:20241214T233000
DTSTAMP:20260421T133906
CREATED:20240712T190609Z
LAST-MODIFIED:20241005T063203Z
UID:10000031-1734199200-1734219000@kreisaerzteschaft-heidenheim.de
SUMMARY:Weihnachtsfeier der Kreisärzteschaft Heidenheim
DESCRIPTION:
URL:https://kreisaerzteschaft-heidenheim.de/veranstaltung/weihnachtsfeier-der-kreisaerzteschaft-heidenheim/
LOCATION:Brauereigaststätte König\, Oggenhauser Hauptstraße 6\, HDH-Oggenhausen\, 89522
CATEGORIES:QM Zirkel Darmzentrum
ATTACH;FMTTYPE=image/jpeg:https://kreisaerzteschaft-heidenheim.de/wp-content/uploads/2024/07/kreisaerzteschaft-Veranstaltung-Weihnachtsfeier.jpg
END:VEVENT
BEGIN:VEVENT
DTSTART;TZID=Europe/Berlin:20241211T180000
DTEND;TZID=Europe/Berlin:20241211T200000
DTSTAMP:20260421T133906
CREATED:20241015T185454Z
LAST-MODIFIED:20241015T185454Z
UID:10000054-1733940000-1733947200@kreisaerzteschaft-heidenheim.de
SUMMARY:3. Gesundheitskonferenz: "Effizienzsteigerung in der modernen Arztpraxis: Delegation / Substitution ärztlicher Tätigkeiten"
DESCRIPTION:
URL:https://kreisaerzteschaft-heidenheim.de/veranstaltung/3-gesundheitskonferenz-vorstellung-des-weiterbildungsverbunds-allgemeinmedizin-landkreis-heidenheim/
LOCATION:Klinikum Heidenheim Hörsaal\, Schlosshausstraße 100\, Heidenheim\, Baden-Württemberg\, 89522\, Deutschland
CATEGORIES:Fortbildungen der Kreisärzteschaft,Sonstige Veranstaltungen
ATTACH;FMTTYPE=image/jpeg:https://kreisaerzteschaft-heidenheim.de/wp-content/uploads/2024/04/kreisaerzteschaft-kreisaerzteschaft.jpg
END:VEVENT
BEGIN:VEVENT
DTSTART;TZID=Europe/Berlin:20241120T180000
DTEND;TZID=Europe/Berlin:20241120T210000
DTSTAMP:20260421T133906
CREATED:20240720T195651Z
LAST-MODIFIED:20240928T135839Z
UID:10000041-1732125600-1732136400@kreisaerzteschaft-heidenheim.de
SUMMARY:Vollversammlungen der Kreisärzteschaft und der Vereine Notfallpraxis und Diabetesschulung
DESCRIPTION:
URL:https://kreisaerzteschaft-heidenheim.de/veranstaltung/vollversammlungen-der-drei-vereine-notfallpraxis-medinetz-und-diabetes-schulung/
LOCATION:Klinikum Heidenheim Hörsaal\, Schlosshausstraße 100\, Heidenheim\, Baden-Württemberg\, 89522\, Deutschland
CATEGORIES:Fortbildungen der Kreisärzteschaft,Sonstige Veranstaltungen
ATTACH;FMTTYPE=image/jpeg:https://kreisaerzteschaft-heidenheim.de/wp-content/uploads/2024/07/kreisaerzteschaft-Veranstaltungen.jpg
END:VEVENT
BEGIN:VEVENT
DTSTART;TZID=Europe/Berlin:20241113T180000
DTEND;TZID=Europe/Berlin:20241113T210000
DTSTAMP:20260421T133906
CREATED:20240615T204607Z
LAST-MODIFIED:20241110T061437Z
UID:10000028-1731520800-1731531600@kreisaerzteschaft-heidenheim.de
SUMMARY:Notfälle im Bereitschaftsdienst:            Augen\, Urologie\, Dermatologie
DESCRIPTION:
URL:https://kreisaerzteschaft-heidenheim.de/veranstaltung/notfaelle-im-bereitschaftsdienst-augen-hno-urologie-dermatologie/
LOCATION:Klinikum Heidenheim Konferenzraum\, Schlosshausstraße 100\, Heidenheim\, 89522\, Deutschland
CATEGORIES:Fortbildungen der Kreisärzteschaft
ATTACH;FMTTYPE=image/jpeg:https://kreisaerzteschaft-heidenheim.de/wp-content/uploads/2024/04/kreisaerzteschaft-kreisaerzteschaft.jpg
END:VEVENT
BEGIN:VEVENT
DTSTART;TZID=Europe/Berlin:20241016T180000
DTEND;TZID=Europe/Berlin:20241016T200000
DTSTAMP:20260421T133906
CREATED:20240729T104313Z
LAST-MODIFIED:20241015T185031Z
UID:10000043-1729101600-1729108800@kreisaerzteschaft-heidenheim.de
SUMMARY:1. Gesundheitskonferenz: "Vorstellung des Weiterbildungsverbunds Allgemeinmedizin Landkreis Heidenheim"
DESCRIPTION:
URL:https://kreisaerzteschaft-heidenheim.de/veranstaltung/gesundheitskonferenz-neue-wege-in-der-ambulanten-versorgung/
LOCATION:Klinikum Heidenheim Hörsaal\, Schlosshausstraße 100\, Heidenheim\, Baden-Württemberg\, 89522\, Deutschland
CATEGORIES:Fortbildungen der Kreisärzteschaft,Sonstige Veranstaltungen
ATTACH;FMTTYPE=image/jpeg:https://kreisaerzteschaft-heidenheim.de/wp-content/uploads/2024/04/kreisaerzteschaft-kreisaerzteschaft.jpg
END:VEVENT
END:VCALENDAR