BEGIN:VCALENDAR
VERSION:2.0
PRODID:-//kreisaerzteschaft-heidenheim - ECPv6.15.17//NONSGML v1.0//EN
CALSCALE:GREGORIAN
METHOD:PUBLISH
X-WR-CALNAME:kreisaerzteschaft-heidenheim
X-ORIGINAL-URL:https://kreisaerzteschaft-heidenheim.de
X-WR-CALDESC:Veranstaltungen für kreisaerzteschaft-heidenheim
REFRESH-INTERVAL;VALUE=DURATION:PT1H
X-Robots-Tag:noindex
X-PUBLISHED-TTL:PT1H
BEGIN:VTIMEZONE
TZID:Europe/Berlin
BEGIN:DAYLIGHT
TZOFFSETFROM:+0100
TZOFFSETTO:+0200
TZNAME:CEST
DTSTART:20230326T010000
END:DAYLIGHT
BEGIN:STANDARD
TZOFFSETFROM:+0200
TZOFFSETTO:+0100
TZNAME:CET
DTSTART:20231029T010000
END:STANDARD
BEGIN:DAYLIGHT
TZOFFSETFROM:+0100
TZOFFSETTO:+0200
TZNAME:CEST
DTSTART:20240331T010000
END:DAYLIGHT
BEGIN:STANDARD
TZOFFSETFROM:+0200
TZOFFSETTO:+0100
TZNAME:CET
DTSTART:20241027T010000
END:STANDARD
BEGIN:DAYLIGHT
TZOFFSETFROM:+0100
TZOFFSETTO:+0200
TZNAME:CEST
DTSTART:20250330T010000
END:DAYLIGHT
BEGIN:STANDARD
TZOFFSETFROM:+0200
TZOFFSETTO:+0100
TZNAME:CET
DTSTART:20251026T010000
END:STANDARD
BEGIN:DAYLIGHT
TZOFFSETFROM:+0100
TZOFFSETTO:+0200
TZNAME:CEST
DTSTART:20260329T010000
END:DAYLIGHT
BEGIN:STANDARD
TZOFFSETFROM:+0200
TZOFFSETTO:+0100
TZNAME:CET
DTSTART:20261025T010000
END:STANDARD
END:VTIMEZONE
BEGIN:VEVENT
DTSTART;TZID=Europe/Berlin:20250723T163000
DTEND;TZID=Europe/Berlin:20250723T180000
DTSTAMP:20260421T163223
CREATED:20250315T010707Z
LAST-MODIFIED:20250315T010707Z
UID:10000063-1753288200-1753293600@kreisaerzteschaft-heidenheim.de
SUMMARY:Interdisziplinäre Schmerzkonferenz
DESCRIPTION:
URL:https://kreisaerzteschaft-heidenheim.de/veranstaltung/interdisziplinaere-schmerzkonferenz-9/
LOCATION:Besprechungsraum K-0.404\, Schlosshausstraße 100\, Heidenheim\, 89522
CATEGORIES:Fortbildungen der Kreisärzteschaft
ATTACH;FMTTYPE=image/jpeg:https://kreisaerzteschaft-heidenheim.de/wp-content/uploads/2024/04/kreisaerzteschaft-kreisaerzteschaft.jpg
END:VEVENT
BEGIN:VEVENT
DTSTART;TZID=Europe/Berlin:20250625T163000
DTEND;TZID=Europe/Berlin:20250625T180000
DTSTAMP:20260421T163223
CREATED:20250315T010607Z
LAST-MODIFIED:20250315T010607Z
UID:10000062-1750869000-1750874400@kreisaerzteschaft-heidenheim.de
SUMMARY:Interdisziplinäre Schmerzkonferenz
DESCRIPTION:
URL:https://kreisaerzteschaft-heidenheim.de/veranstaltung/interdisziplinaere-schmerzkonferenz-8/
LOCATION:Besprechungsraum K-0.404\, Schlosshausstraße 100\, Heidenheim\, 89522
CATEGORIES:Fortbildungen der Kreisärzteschaft
ATTACH;FMTTYPE=image/jpeg:https://kreisaerzteschaft-heidenheim.de/wp-content/uploads/2024/04/kreisaerzteschaft-kreisaerzteschaft.jpg
END:VEVENT
BEGIN:VEVENT
DTSTART;TZID=Europe/Berlin:20250521T163000
DTEND;TZID=Europe/Berlin:20250521T180000
DTSTAMP:20260421T163223
CREATED:20250315T010448Z
LAST-MODIFIED:20250315T010448Z
UID:10000061-1747845000-1747850400@kreisaerzteschaft-heidenheim.de
SUMMARY:Interdisziplinäre Schmerzkonferenz
DESCRIPTION:
URL:https://kreisaerzteschaft-heidenheim.de/veranstaltung/interdisziplinaere-schmerzkonferenz-7/
LOCATION:Besprechungsraum K-0.404\, Schlosshausstraße 100\, Heidenheim\, 89522
CATEGORIES:Fortbildungen der Kreisärzteschaft
ATTACH;FMTTYPE=image/jpeg:https://kreisaerzteschaft-heidenheim.de/wp-content/uploads/2024/04/kreisaerzteschaft-kreisaerzteschaft.jpg
END:VEVENT
BEGIN:VEVENT
DTSTART;TZID=Europe/Berlin:20250430T163000
DTEND;TZID=Europe/Berlin:20250430T180000
DTSTAMP:20260421T163223
CREATED:20250315T010325Z
LAST-MODIFIED:20250315T010325Z
UID:10000060-1746030600-1746036000@kreisaerzteschaft-heidenheim.de
SUMMARY:Interdisziplinäre Schmerzkonferenz
DESCRIPTION:
URL:https://kreisaerzteschaft-heidenheim.de/veranstaltung/interdisziplinaere-schmerzkonferenz-6/
LOCATION:Besprechungsraum K-0.404\, Schlosshausstraße 100\, Heidenheim\, 89522
CATEGORIES:Fortbildungen der Kreisärzteschaft
ATTACH;FMTTYPE=image/jpeg:https://kreisaerzteschaft-heidenheim.de/wp-content/uploads/2024/04/kreisaerzteschaft-kreisaerzteschaft.jpg
END:VEVENT
BEGIN:VEVENT
DTSTART;TZID=Europe/Berlin:20241211T163000
DTEND;TZID=Europe/Berlin:20241211T180000
DTSTAMP:20260421T163223
CREATED:20240823T175600Z
LAST-MODIFIED:20240926T193957Z
UID:10000045-1733934600-1733940000@kreisaerzteschaft-heidenheim.de
SUMMARY:Interdisziplinäre Schmerzkonferenz
DESCRIPTION:
URL:https://kreisaerzteschaft-heidenheim.de/veranstaltung/interdisziplinaere-schmerzkonferenz-2/
LOCATION:Besprechungsraum K-0.404\, Schlosshausstraße 100\, Heidenheim\, 89522
CATEGORIES:Fortbildungen der Kreisärzteschaft
ATTACH;FMTTYPE=image/jpeg:https://kreisaerzteschaft-heidenheim.de/wp-content/uploads/2024/04/kreisaerzteschaft-kreisaerzteschaft.jpg
END:VEVENT
BEGIN:VEVENT
DTSTART;TZID=Europe/Berlin:20241113T163000
DTEND;TZID=Europe/Berlin:20241113T180000
DTSTAMP:20260421T163223
CREATED:20240823T175852Z
LAST-MODIFIED:20240926T194038Z
UID:10000046-1731515400-1731520800@kreisaerzteschaft-heidenheim.de
SUMMARY:Interdisziplinäre Schmerzkonferenz
DESCRIPTION:
URL:https://kreisaerzteschaft-heidenheim.de/veranstaltung/interdisziplinaere-schmerzkonferenz-3/
LOCATION:Besprechungsraum K-0.404\, Schlosshausstraße 100\, Heidenheim\, 89522
CATEGORIES:Fortbildungen der Kreisärzteschaft
ATTACH;FMTTYPE=image/jpeg:https://kreisaerzteschaft-heidenheim.de/wp-content/uploads/2024/04/kreisaerzteschaft-kreisaerzteschaft.jpg
END:VEVENT
BEGIN:VEVENT
DTSTART;TZID=Europe/Berlin:20241023T163000
DTEND;TZID=Europe/Berlin:20241023T180000
DTSTAMP:20260421T163223
CREATED:20240823T180041Z
LAST-MODIFIED:20240926T194112Z
UID:10000047-1729701000-1729706400@kreisaerzteschaft-heidenheim.de
SUMMARY:Interdisziplinäre Schmerzkonferenz
DESCRIPTION:
URL:https://kreisaerzteschaft-heidenheim.de/veranstaltung/interdisziplinaere-schmerzkonferenz-4/
LOCATION:Besprechungsraum K-0.404\, Schlosshausstraße 100\, Heidenheim\, 89522
CATEGORIES:Fortbildungen der Kreisärzteschaft
ATTACH;FMTTYPE=image/jpeg:https://kreisaerzteschaft-heidenheim.de/wp-content/uploads/2024/04/kreisaerzteschaft-kreisaerzteschaft.jpg
END:VEVENT
BEGIN:VEVENT
DTSTART;TZID=Europe/Berlin:20240925T163000
DTEND;TZID=Europe/Berlin:20240925T180000
DTSTAMP:20260421T163223
CREATED:20240823T180203Z
LAST-MODIFIED:20240926T194156Z
UID:10000048-1727281800-1727287200@kreisaerzteschaft-heidenheim.de
SUMMARY:Interdisziplinäre Schmerzkonferenz
DESCRIPTION:
URL:https://kreisaerzteschaft-heidenheim.de/veranstaltung/interdisziplinaere-schmerzkonferenz-5/
LOCATION:Besprechungsraum K-0.404\, Schlosshausstraße 100\, Heidenheim\, 89522
CATEGORIES:Fortbildungen der Kreisärzteschaft
ATTACH;FMTTYPE=image/jpeg:https://kreisaerzteschaft-heidenheim.de/wp-content/uploads/2024/04/kreisaerzteschaft-kreisaerzteschaft.jpg
END:VEVENT
BEGIN:VEVENT
DTSTART;TZID=Europe/Berlin:20240724T163000
DTEND;TZID=Europe/Berlin:20240724T180000
DTSTAMP:20260421T163223
CREATED:20240717T181503Z
LAST-MODIFIED:20240718T034522Z
UID:10000039-1721838600-1721844000@kreisaerzteschaft-heidenheim.de
SUMMARY:Interdisziplinäre Schmerzkonferenz
DESCRIPTION:
URL:https://kreisaerzteschaft-heidenheim.de/veranstaltung/interdisziplinaere-schmerzkonferenz/
LOCATION:Besprechungsraum K-0.404\, Schlosshausstraße 100\, Heidenheim\, 89522
CATEGORIES:Fortbildungen der Kreisärzteschaft
ATTACH;FMTTYPE=image/jpeg:https://kreisaerzteschaft-heidenheim.de/wp-content/uploads/2024/04/kreisaerzteschaft-kreisaerzteschaft.jpg
END:VEVENT
END:VCALENDAR