BEGIN:VCALENDAR
VERSION:2.0
PRODID:-//kreisaerzteschaft-heidenheim - ECPv6.15.17//NONSGML v1.0//EN
CALSCALE:GREGORIAN
METHOD:PUBLISH
X-ORIGINAL-URL:https://kreisaerzteschaft-heidenheim.de
X-WR-CALDESC:Veranstaltungen für kreisaerzteschaft-heidenheim
REFRESH-INTERVAL;VALUE=DURATION:PT1H
X-Robots-Tag:noindex
X-PUBLISHED-TTL:PT1H
BEGIN:VTIMEZONE
TZID:Europe/Berlin
BEGIN:DAYLIGHT
TZOFFSETFROM:+0100
TZOFFSETTO:+0200
TZNAME:CEST
DTSTART:20230326T010000
END:DAYLIGHT
BEGIN:STANDARD
TZOFFSETFROM:+0200
TZOFFSETTO:+0100
TZNAME:CET
DTSTART:20231029T010000
END:STANDARD
BEGIN:DAYLIGHT
TZOFFSETFROM:+0100
TZOFFSETTO:+0200
TZNAME:CEST
DTSTART:20240331T010000
END:DAYLIGHT
BEGIN:STANDARD
TZOFFSETFROM:+0200
TZOFFSETTO:+0100
TZNAME:CET
DTSTART:20241027T010000
END:STANDARD
BEGIN:DAYLIGHT
TZOFFSETFROM:+0100
TZOFFSETTO:+0200
TZNAME:CEST
DTSTART:20250330T010000
END:DAYLIGHT
BEGIN:STANDARD
TZOFFSETFROM:+0200
TZOFFSETTO:+0100
TZNAME:CET
DTSTART:20251026T010000
END:STANDARD
BEGIN:DAYLIGHT
TZOFFSETFROM:+0100
TZOFFSETTO:+0200
TZNAME:CEST
DTSTART:20260329T010000
END:DAYLIGHT
BEGIN:STANDARD
TZOFFSETFROM:+0200
TZOFFSETTO:+0100
TZNAME:CET
DTSTART:20261025T010000
END:STANDARD
END:VTIMEZONE
BEGIN:VEVENT
DTSTART;TZID=Europe/Berlin:20250611T140000
DTEND;TZID=Europe/Berlin:20250611T153000
DTSTAMP:20260421T193245
CREATED:20250527T183734Z
LAST-MODIFIED:20250527T184003Z
UID:10000078-1749650400-1749655800@kreisaerzteschaft-heidenheim.de
SUMMARY:MRE-NETZ-HDH Sitzung
DESCRIPTION:
URL:https://kreisaerzteschaft-heidenheim.de/veranstaltung/mre-netz-hdh-sitzung/
LOCATION:Klinikum Heidenheim Konferenzraum\, Schlosshausstraße 100\, Heidenheim\, 89522\, Deutschland
CATEGORIES:MRE Netzwerk
ATTACH;FMTTYPE=image/jpeg:https://kreisaerzteschaft-heidenheim.de/wp-content/uploads/2024/02/kreisaerzteschaft-MRE-Netzwerk-1.jpg
END:VEVENT
BEGIN:VEVENT
DTSTART;TZID=Europe/Berlin:20240626T173000
DTEND;TZID=Europe/Berlin:20240626T190000
DTSTAMP:20260421T193245
CREATED:20240607T125736Z
LAST-MODIFIED:20240617T205017Z
UID:10000020-1719423000-1719428400@kreisaerzteschaft-heidenheim.de
SUMMARY:Aufgaben der Soziaberatung im Darmzentrum\, Darmkrebsprävention durch Ernährung
DESCRIPTION:
URL:https://kreisaerzteschaft-heidenheim.de/veranstaltung/qm-zirkel-darmzentrum-heidenheim-4/
LOCATION:Klinikum Heidenheim Hörsaal\, Schlosshausstraße 100\, Heidenheim\, Baden-Württemberg\, 89522\, Deutschland
CATEGORIES:QM Zirkel Darmzentrum
ATTACH;FMTTYPE=image/jpeg:https://kreisaerzteschaft-heidenheim.de/wp-content/uploads/2024/04/kreisaerzteschaft-Qualitaetszirkel-Dramzentrum.jpg
END:VEVENT
BEGIN:VEVENT
DTSTART;TZID=Europe/Berlin:20240619T160000
DTEND;TZID=Europe/Berlin:20240619T180000
DTSTAMP:20260421T193245
CREATED:20240426T085644Z
LAST-MODIFIED:20240615T202049Z
UID:10000015-1718812800-1718820000@kreisaerzteschaft-heidenheim.de
SUMMARY:Vorstellung Da Vinci OP-Roboter-System/Gynäkologie und Chirurgie
DESCRIPTION:
URL:https://kreisaerzteschaft-heidenheim.de/veranstaltung/vorstellung-da-vinci-op-robotor-system-gynaekologie-und-chirurgie/
LOCATION:Klinikum Heidenheim Konferenzraum\, Schlosshausstraße 100\, Heidenheim\, 89522\, Deutschland
CATEGORIES:Fortbildungen der Kreisärzteschaft
ATTACH;FMTTYPE=image/jpeg:https://kreisaerzteschaft-heidenheim.de/wp-content/uploads/2024/04/kreisaerzteschaft-kreisaerzteschaft.jpg
END:VEVENT
BEGIN:VEVENT
DTSTART;TZID=Europe/Berlin:20240207T170000
DTEND;TZID=Europe/Berlin:20240207T190000
DTSTAMP:20260421T193245
CREATED:20240205T171750Z
LAST-MODIFIED:20240606T073237Z
UID:10000009-1707325200-1707332400@kreisaerzteschaft-heidenheim.de
SUMMARY:MRE-NET-HDH Sitzung
DESCRIPTION:
URL:https://kreisaerzteschaft-heidenheim.de/veranstaltung/mre-net-hdh-sitzung/
LOCATION:Klinikum Heidenheim Konferenzraum\, Schlosshausstraße 100\, Heidenheim\, 89522\, Deutschland
CATEGORIES:MRE Netzwerk
ATTACH;FMTTYPE=image/jpeg:https://kreisaerzteschaft-heidenheim.de/wp-content/uploads/2024/02/kreisaerzteschaft-MRE-Netzwerk-1.jpg
END:VEVENT
END:VCALENDAR