BEGIN:VCALENDAR
VERSION:2.0
PRODID:-//kreisaerzteschaft-heidenheim - ECPv6.15.17//NONSGML v1.0//EN
CALSCALE:GREGORIAN
METHOD:PUBLISH
X-ORIGINAL-URL:https://kreisaerzteschaft-heidenheim.de
X-WR-CALDESC:Veranstaltungen für kreisaerzteschaft-heidenheim
REFRESH-INTERVAL;VALUE=DURATION:PT1H
X-Robots-Tag:noindex
X-PUBLISHED-TTL:PT1H
BEGIN:VTIMEZONE
TZID:Europe/Berlin
BEGIN:DAYLIGHT
TZOFFSETFROM:+0100
TZOFFSETTO:+0200
TZNAME:CEST
DTSTART:20240331T010000
END:DAYLIGHT
BEGIN:STANDARD
TZOFFSETFROM:+0200
TZOFFSETTO:+0100
TZNAME:CET
DTSTART:20241027T010000
END:STANDARD
BEGIN:DAYLIGHT
TZOFFSETFROM:+0100
TZOFFSETTO:+0200
TZNAME:CEST
DTSTART:20250330T010000
END:DAYLIGHT
BEGIN:STANDARD
TZOFFSETFROM:+0200
TZOFFSETTO:+0100
TZNAME:CET
DTSTART:20251026T010000
END:STANDARD
BEGIN:DAYLIGHT
TZOFFSETFROM:+0100
TZOFFSETTO:+0200
TZNAME:CEST
DTSTART:20260329T010000
END:DAYLIGHT
BEGIN:STANDARD
TZOFFSETFROM:+0200
TZOFFSETTO:+0100
TZNAME:CET
DTSTART:20261025T010000
END:STANDARD
BEGIN:DAYLIGHT
TZOFFSETFROM:+0100
TZOFFSETTO:+0200
TZNAME:CEST
DTSTART:20270328T010000
END:DAYLIGHT
BEGIN:STANDARD
TZOFFSETFROM:+0200
TZOFFSETTO:+0100
TZNAME:CET
DTSTART:20271031T010000
END:STANDARD
END:VTIMEZONE
BEGIN:VEVENT
DTSTART;TZID=Europe/Berlin:20260415T180000
DTEND;TZID=Europe/Berlin:20260415T210000
DTSTAMP:20260421T132105
CREATED:20250321T221400Z
LAST-MODIFIED:20260223T085411Z
UID:10000066-1776276000-1776286800@kreisaerzteschaft-heidenheim.de
SUMMARY:Vollversammlung der Kreisärzteschaft 2026
DESCRIPTION:
URL:https://kreisaerzteschaft-heidenheim.de/veranstaltung/vollversammlungen-der-kreisaerzteschaft-und-der-vereine-notfallpraxis-und-diabetesschulung-2025/
LOCATION:Klinikum Heidenheim Hörsaal\, Schlosshausstraße 100\, Heidenheim\, Baden-Württemberg\, 89522\, Deutschland
CATEGORIES:Fortbildungen der Kreisärzteschaft,Sonstige Veranstaltungen
ATTACH;FMTTYPE=image/jpeg:https://kreisaerzteschaft-heidenheim.de/wp-content/uploads/2024/07/kreisaerzteschaft-Veranstaltungen.jpg
END:VEVENT
BEGIN:VEVENT
DTSTART;TZID=Europe/Berlin:20260325T180000
DTEND;TZID=Europe/Berlin:20260325T200000
DTSTAMP:20260421T132105
CREATED:20260228T103509Z
LAST-MODIFIED:20260317T195632Z
UID:10000091-1774461600-1774468800@kreisaerzteschaft-heidenheim.de
SUMMARY:Rheumatologie Dr. Briem CA Krankenhaus Langenau
DESCRIPTION:
URL:https://kreisaerzteschaft-heidenheim.de/veranstaltung/rheumatologie-dr-briem-ca-krankenhaus-langenau/
LOCATION:Klinikum Heidenheim Hörsaal\, Schlosshausstraße 100\, Heidenheim\, Baden-Württemberg\, 89522\, Deutschland
CATEGORIES:Fortbildungen der Kreisärzteschaft
ATTACH;FMTTYPE=image/jpeg:https://kreisaerzteschaft-heidenheim.de/wp-content/uploads/2024/04/kreisaerzteschaft-kreisaerzteschaft.jpg
END:VEVENT
BEGIN:VEVENT
DTSTART;TZID=Europe/Berlin:20260318T173000
DTEND;TZID=Europe/Berlin:20260319T190000
DTSTAMP:20260421T132105
CREATED:20260218T160817Z
LAST-MODIFIED:20260223T085116Z
UID:10000090-1773855000-1773946800@kreisaerzteschaft-heidenheim.de
SUMMARY:QM Zirkel Darmzentrum Heidenheim
DESCRIPTION:
URL:https://kreisaerzteschaft-heidenheim.de/veranstaltung/qm-zirkel-darmzentrum-heidenheim-6/
LOCATION:Besprechungsraum K-0.404\, Schlosshausstraße 100\, Heidenheim\, 89522
CATEGORIES:QM Zirkel Darmzentrum
ATTACH;FMTTYPE=image/jpeg:https://kreisaerzteschaft-heidenheim.de/wp-content/uploads/2024/04/kreisaerzteschaft-Qualitaetszirkel-Dramzentrum.jpg
END:VEVENT
BEGIN:VEVENT
DTSTART;TZID=Europe/Berlin:20260311T170000
DTEND;TZID=Europe/Berlin:20260311T180000
DTSTAMP:20260421T132105
CREATED:20251116T133622Z
LAST-MODIFIED:20260307T085612Z
UID:10000085-1773248400-1773252000@kreisaerzteschaft-heidenheim.de
SUMMARY:QM Zirkel Brustzentrum Heidenheim
DESCRIPTION:
URL:https://kreisaerzteschaft-heidenheim.de/veranstaltung/qm-zirkel-brustzentrum-heidenheim-6/
LOCATION:Klinikum Heidenheim Konferenzraum\, Schlosshausstraße 100\, Heidenheim\, 89522\, Deutschland
CATEGORIES:QM Zirkel Brustzentrum
ATTACH;FMTTYPE=image/jpeg:https://kreisaerzteschaft-heidenheim.de/wp-content/uploads/2024/05/kreisaerzteschaft-QM-Zirkel-Brustzentrum.jpg
END:VEVENT
BEGIN:VEVENT
DTSTART;TZID=Europe/Berlin:20260225T180000
DTEND;TZID=Europe/Berlin:20260225T210000
DTSTAMP:20260421T132105
CREATED:20260218T160335Z
LAST-MODIFIED:20260224T060947Z
UID:10000089-1772042400-1772053200@kreisaerzteschaft-heidenheim.de
SUMMARY:Gefäßmedizinisches Update 2026
DESCRIPTION:
URL:https://kreisaerzteschaft-heidenheim.de/veranstaltung/gefaessmedizinisches-update-2026/
LOCATION:Klinikum Heidenheim Hörsaal\, Schlosshausstraße 100\, Heidenheim\, Baden-Württemberg\, 89522\, Deutschland
CATEGORIES:Fortbildungen der Kreisärzteschaft
ATTACH;FMTTYPE=image/jpeg:https://kreisaerzteschaft-heidenheim.de/wp-content/uploads/2024/04/kreisaerzteschaft-kreisaerzteschaft.jpg
END:VEVENT
BEGIN:VEVENT
DTSTART;TZID=Europe/Berlin:20251210T180000
DTEND;TZID=Europe/Berlin:20251210T180000
DTSTAMP:20260421T132105
CREATED:20250621T143129Z
LAST-MODIFIED:20251207T212117Z
UID:10000079-1765389600-1765389600@kreisaerzteschaft-heidenheim.de
SUMMARY:Gastroupdate 2025
DESCRIPTION:
URL:https://kreisaerzteschaft-heidenheim.de/veranstaltung/gastroupdate-2025/
LOCATION:Klinikum Heidenheim Hörsaal\, Schlosshausstraße 100\, Heidenheim\, Baden-Württemberg\, 89522\, Deutschland
CATEGORIES:Fortbildungen der Kreisärzteschaft
ATTACH;FMTTYPE=image/jpeg:https://kreisaerzteschaft-heidenheim.de/wp-content/uploads/2024/04/kreisaerzteschaft-kreisaerzteschaft.jpg
END:VEVENT
BEGIN:VEVENT
DTSTART;TZID=Europe/Berlin:20251129T180000
DTEND;TZID=Europe/Berlin:20251129T230000
DTSTAMP:20260421T132105
CREATED:20250321T221225Z
LAST-MODIFIED:20251012T112813Z
UID:10000065-1764439200-1764457200@kreisaerzteschaft-heidenheim.de
SUMMARY:Weihnachtsfeier der Kreisärzteschaft Heidenheim 2025
DESCRIPTION:
URL:https://kreisaerzteschaft-heidenheim.de/veranstaltung/weihnachtsfeier-der-kreisaerzteschaft-heidenheim-2025/
LOCATION:Brauereigaststätte König\, Oggenhauser Hauptstraße 6\, HDH-Oggenhausen\, 89522
CATEGORIES:QM Zirkel Darmzentrum
ATTACH;FMTTYPE=image/jpeg:https://kreisaerzteschaft-heidenheim.de/wp-content/uploads/2024/07/kreisaerzteschaft-Veranstaltung-Weihnachtsfeier.jpg
END:VEVENT
BEGIN:VEVENT
DTSTART;TZID=Europe/Berlin:20251126T173000
DTEND;TZID=Europe/Berlin:20251126T173000
DTSTAMP:20260421T132105
CREATED:20250424T181804Z
LAST-MODIFIED:20251116T134650Z
UID:10000073-1764178200-1764178200@kreisaerzteschaft-heidenheim.de
SUMMARY:Gemeinsamer QM Zirkel Brust- und Darmzentrum Heidenheim
DESCRIPTION:
URL:https://kreisaerzteschaft-heidenheim.de/veranstaltung/qm-zirkel-darmzentrum-heidenheim-5/
LOCATION:Klinikum Heidenheim Konferenzraum\, Schlosshausstraße 100\, Heidenheim\, 89522\, Deutschland
CATEGORIES:QM Zirkel Darmzentrum
ATTACH;FMTTYPE=image/jpeg:https://kreisaerzteschaft-heidenheim.de/wp-content/uploads/2024/04/kreisaerzteschaft-Qualitaetszirkel-Dramzentrum.jpg
END:VEVENT
BEGIN:VEVENT
DTSTART;TZID=Europe/Berlin:20251119T190000
DTEND;TZID=Europe/Berlin:20251119T190000
DTSTAMP:20260421T132105
CREATED:20250916T171339Z
LAST-MODIFIED:20250916T171935Z
UID:10000082-1763578800-1763578800@kreisaerzteschaft-heidenheim.de
SUMMARY:In 60 min zum "kleinen Dermatologen" - ein Streifzug durch die moderne Dermatologie
DESCRIPTION:
URL:https://kreisaerzteschaft-heidenheim.de/veranstaltung/in-90-min-zum-kleinen-dermatologen-gemeinsame-fortbildung-der-drei-aerzteschaften/
LOCATION:Landhotel Wental\, 73566 Wental\, Im Wental 1
CATEGORIES:Fortbildungen der Kreisärzteschaft
ATTACH;FMTTYPE=image/jpeg:https://kreisaerzteschaft-heidenheim.de/wp-content/uploads/2024/04/kreisaerzteschaft-kreisaerzteschaft.jpg
END:VEVENT
BEGIN:VEVENT
DTSTART;TZID=Europe/Berlin:20251112T180000
DTEND;TZID=Europe/Berlin:20251112T193000
DTSTAMP:20260421T132105
CREATED:20251008T181737Z
LAST-MODIFIED:20251103T184230Z
UID:10000083-1762970400-1762975800@kreisaerzteschaft-heidenheim.de
SUMMARY:Onkologie Update 2025
DESCRIPTION:
URL:https://kreisaerzteschaft-heidenheim.de/veranstaltung/onkologie-2025/
LOCATION:Klinikum Heidenheim Hörsaal\, Schlosshausstraße 100\, Heidenheim\, Baden-Württemberg\, 89522\, Deutschland
CATEGORIES:Fortbildungen der Kreisärzteschaft
ATTACH;FMTTYPE=image/jpeg:https://kreisaerzteschaft-heidenheim.de/wp-content/uploads/2024/04/kreisaerzteschaft-kreisaerzteschaft.jpg
END:VEVENT
BEGIN:VEVENT
DTSTART;TZID=Europe/Berlin:20251029T110000
DTEND;TZID=Europe/Berlin:20251029T150000
DTSTAMP:20260421T132105
CREATED:20251017T043049Z
LAST-MODIFIED:20251017T043049Z
UID:10000084-1761735600-1761750000@kreisaerzteschaft-heidenheim.de
SUMMARY:Palliativtag Ulm: "Sterbehilfe und (ärztlich) assistierter Suizid
DESCRIPTION:
URL:https://kreisaerzteschaft-heidenheim.de/veranstaltung/palliativtag-ulm-sterbehilfe-und-aerztlich-assistierter-suizid/
LOCATION:Klinikum Heidenheim Hörsaal\, Schlosshausstraße 100\, Heidenheim\, Baden-Württemberg\, 89522\, Deutschland
CATEGORIES:Fortbildungen der Kreisärzteschaft
ATTACH;FMTTYPE=image/jpeg:https://kreisaerzteschaft-heidenheim.de/wp-content/uploads/2024/04/kreisaerzteschaft-kreisaerzteschaft.jpg
END:VEVENT
BEGIN:VEVENT
DTSTART;TZID=Europe/Berlin:20251015T180000
DTEND;TZID=Europe/Berlin:20251015T200000
DTSTAMP:20260421T132105
CREATED:20250621T143228Z
LAST-MODIFIED:20251008T180905Z
UID:10000080-1760551200-1760558400@kreisaerzteschaft-heidenheim.de
SUMMARY:54. Onkologisches Kolloqium: " Palliative Geriatrie mit Schwerpunkt Demenz in der palliativen Versorgung
DESCRIPTION:
URL:https://kreisaerzteschaft-heidenheim.de/veranstaltung/onkoupdate-2025/
LOCATION:Klinikum Heidenheim Hörsaal\, Schlosshausstraße 100\, Heidenheim\, Baden-Württemberg\, 89522\, Deutschland
CATEGORIES:Fortbildungen der Kreisärzteschaft
ATTACH;FMTTYPE=image/jpeg:https://kreisaerzteschaft-heidenheim.de/wp-content/uploads/2024/04/kreisaerzteschaft-kreisaerzteschaft.jpg
END:VEVENT
BEGIN:VEVENT
DTSTART;TZID=Europe/Berlin:20250924T173000
DTEND;TZID=Europe/Berlin:20250924T173000
DTSTAMP:20260421T132105
CREATED:20250424T181724Z
LAST-MODIFIED:20250908T201117Z
UID:10000072-1758735000-1758735000@kreisaerzteschaft-heidenheim.de
SUMMARY:QM Zirkel Darmzentrum Heidenheim
DESCRIPTION:
URL:https://kreisaerzteschaft-heidenheim.de/veranstaltung/qm-zirkel-darmzentrum-heidenheim-3/
LOCATION:Klinikum Heidenheim Konferenzraum\, Schlosshausstraße 100\, Heidenheim\, 89522\, Deutschland
CATEGORIES:QM Zirkel Darmzentrum
ATTACH;FMTTYPE=image/jpeg:https://kreisaerzteschaft-heidenheim.de/wp-content/uploads/2024/04/kreisaerzteschaft-Qualitaetszirkel-Dramzentrum.jpg
END:VEVENT
BEGIN:VEVENT
DTSTART;TZID=Europe/Berlin:20250917T170000
DTEND;TZID=Europe/Berlin:20250917T180000
DTSTAMP:20260421T132105
CREATED:20250510T132151Z
LAST-MODIFIED:20250908T200246Z
UID:10000076-1758128400-1758132000@kreisaerzteschaft-heidenheim.de
SUMMARY:QM Zirkel Brustzentrum Heidenheim
DESCRIPTION:
URL:https://kreisaerzteschaft-heidenheim.de/veranstaltung/qm-zirkel-brustzentrum-heidenheim-5/
LOCATION:Klinikum Heidenheim Konferenzraum\, Schlosshausstraße 100\, Heidenheim\, 89522\, Deutschland
CATEGORIES:QM Zirkel Brustzentrum
ATTACH;FMTTYPE=image/jpeg:https://kreisaerzteschaft-heidenheim.de/wp-content/uploads/2024/05/kreisaerzteschaft-QM-Zirkel-Brustzentrum.jpg
END:VEVENT
BEGIN:VEVENT
DTSTART;TZID=Europe/Berlin:20250723T163000
DTEND;TZID=Europe/Berlin:20250723T180000
DTSTAMP:20260421T132105
CREATED:20250315T010707Z
LAST-MODIFIED:20250315T010707Z
UID:10000063-1753288200-1753293600@kreisaerzteschaft-heidenheim.de
SUMMARY:Interdisziplinäre Schmerzkonferenz
DESCRIPTION:
URL:https://kreisaerzteschaft-heidenheim.de/veranstaltung/interdisziplinaere-schmerzkonferenz-9/
LOCATION:Besprechungsraum K-0.404\, Schlosshausstraße 100\, Heidenheim\, 89522
CATEGORIES:Fortbildungen der Kreisärzteschaft
ATTACH;FMTTYPE=image/jpeg:https://kreisaerzteschaft-heidenheim.de/wp-content/uploads/2024/04/kreisaerzteschaft-kreisaerzteschaft.jpg
END:VEVENT
BEGIN:VEVENT
DTSTART;TZID=Europe/Berlin:20250709T180000
DTEND;TZID=Europe/Berlin:20250709T200000
DTSTAMP:20260421T132105
CREATED:20250321T222241Z
LAST-MODIFIED:20250630T135908Z
UID:10000069-1752084000-1752091200@kreisaerzteschaft-heidenheim.de
SUMMARY:Neurologische Notfälle
DESCRIPTION:
URL:https://kreisaerzteschaft-heidenheim.de/veranstaltung/schmerztherapie/
LOCATION:Klinikum Heidenheim Hörsaal\, Schlosshausstraße 100\, Heidenheim\, Baden-Württemberg\, 89522\, Deutschland
CATEGORIES:Fortbildungen der Kreisärzteschaft
ATTACH;FMTTYPE=image/jpeg:https://kreisaerzteschaft-heidenheim.de/wp-content/uploads/2024/04/kreisaerzteschaft-kreisaerzteschaft.jpg
END:VEVENT
BEGIN:VEVENT
DTSTART;TZID=Europe/Berlin:20250625T180000
DTEND;TZID=Europe/Berlin:20250625T200000
DTSTAMP:20260421T132105
CREATED:20250321T222142Z
LAST-MODIFIED:20250617T101829Z
UID:10000070-1750874400-1750881600@kreisaerzteschaft-heidenheim.de
SUMMARY:Kardio CT\, ein Blick ins Herz (17 Jahre Erfahrung im Klinikum Heidenheim\, Entwicklung und Ausblick)
DESCRIPTION:
URL:https://kreisaerzteschaft-heidenheim.de/veranstaltung/radiologie/
LOCATION:Klinikum Heidenheim Hörsaal\, Schlosshausstraße 100\, Heidenheim\, Baden-Württemberg\, 89522\, Deutschland
CATEGORIES:Fortbildungen der Kreisärzteschaft
ATTACH;FMTTYPE=image/jpeg:https://kreisaerzteschaft-heidenheim.de/wp-content/uploads/2024/04/kreisaerzteschaft-kreisaerzteschaft.jpg
END:VEVENT
BEGIN:VEVENT
DTSTART;TZID=Europe/Berlin:20250625T173000
DTEND;TZID=Europe/Berlin:20250625T190000
DTSTAMP:20260421T132105
CREATED:20250510T132045Z
LAST-MODIFIED:20250510T132045Z
UID:10000075-1750872600-1750878000@kreisaerzteschaft-heidenheim.de
SUMMARY:QM Zirkel Brustzentrum Heidenheim
DESCRIPTION:
URL:https://kreisaerzteschaft-heidenheim.de/veranstaltung/qm-zirkel-brustzentrum-heidenheim-4/
LOCATION:Klinikum Heidenheim Konferenzraum\, Schlosshausstraße 100\, Heidenheim\, 89522\, Deutschland
CATEGORIES:QM Zirkel Brustzentrum
ATTACH;FMTTYPE=image/jpeg:https://kreisaerzteschaft-heidenheim.de/wp-content/uploads/2024/05/kreisaerzteschaft-QM-Zirkel-Brustzentrum.jpg
END:VEVENT
BEGIN:VEVENT
DTSTART;TZID=Europe/Berlin:20250625T163000
DTEND;TZID=Europe/Berlin:20250625T180000
DTSTAMP:20260421T132105
CREATED:20250315T010607Z
LAST-MODIFIED:20250315T010607Z
UID:10000062-1750869000-1750874400@kreisaerzteschaft-heidenheim.de
SUMMARY:Interdisziplinäre Schmerzkonferenz
DESCRIPTION:
URL:https://kreisaerzteschaft-heidenheim.de/veranstaltung/interdisziplinaere-schmerzkonferenz-8/
LOCATION:Besprechungsraum K-0.404\, Schlosshausstraße 100\, Heidenheim\, 89522
CATEGORIES:Fortbildungen der Kreisärzteschaft
ATTACH;FMTTYPE=image/jpeg:https://kreisaerzteschaft-heidenheim.de/wp-content/uploads/2024/04/kreisaerzteschaft-kreisaerzteschaft.jpg
END:VEVENT
BEGIN:VEVENT
DTSTART;TZID=Europe/Berlin:20250611T140000
DTEND;TZID=Europe/Berlin:20250611T153000
DTSTAMP:20260421T132105
CREATED:20250527T183734Z
LAST-MODIFIED:20250527T184003Z
UID:10000078-1749650400-1749655800@kreisaerzteschaft-heidenheim.de
SUMMARY:MRE-NETZ-HDH Sitzung
DESCRIPTION:
URL:https://kreisaerzteschaft-heidenheim.de/veranstaltung/mre-netz-hdh-sitzung/
LOCATION:Klinikum Heidenheim Konferenzraum\, Schlosshausstraße 100\, Heidenheim\, 89522\, Deutschland
CATEGORIES:MRE Netzwerk
ATTACH;FMTTYPE=image/jpeg:https://kreisaerzteschaft-heidenheim.de/wp-content/uploads/2024/02/kreisaerzteschaft-MRE-Netzwerk-1.jpg
END:VEVENT
BEGIN:VEVENT
DTSTART;TZID=Europe/Berlin:20250604T173000
DTEND;TZID=Europe/Berlin:20250604T190000
DTSTAMP:20260421T132105
CREATED:20250521T185153Z
LAST-MODIFIED:20250521T185647Z
UID:10000077-1749058200-1749063600@kreisaerzteschaft-heidenheim.de
SUMMARY:Interdisziplinäre Vorträge des Beckenbodenzentrums
DESCRIPTION:
URL:https://kreisaerzteschaft-heidenheim.de/veranstaltung/interdisziplinaere-vortraege-des-beckenbodenzentrums-am-klinikum-heidenheim/
LOCATION:Klinikum Heidenheim Hörsaal\, Schlosshausstraße 100\, Heidenheim\, Baden-Württemberg\, 89522\, Deutschland
CATEGORIES:QM Zirkel Brustzentrum
ATTACH;FMTTYPE=image/jpeg:https://kreisaerzteschaft-heidenheim.de/wp-content/uploads/2024/04/kreisaerzteschaft-kreisaerzteschaft.jpg
END:VEVENT
BEGIN:VEVENT
DTSTART;TZID=Europe/Berlin:20250604T173000
DTEND;TZID=Europe/Berlin:20250604T190000
DTSTAMP:20260421T132105
CREATED:20250424T181628Z
LAST-MODIFIED:20250521T191304Z
UID:10000071-1749058200-1749063600@kreisaerzteschaft-heidenheim.de
SUMMARY:QM Zirkel Darmzentrum Heidenheim
DESCRIPTION:Einwahllink für eine etwaige Online-Teilnahme erhält über das vizeralchirurgische Sekretariat
URL:https://kreisaerzteschaft-heidenheim.de/veranstaltung/qm-zirkel-darmzentrum-heidenheim-2/
LOCATION:Besprechungsraum K-1.402\, Schlosshausstr. 100\, Heidenheim\, 89520
CATEGORIES:QM Zirkel Darmzentrum
ATTACH;FMTTYPE=image/jpeg:https://kreisaerzteschaft-heidenheim.de/wp-content/uploads/2024/04/kreisaerzteschaft-Qualitaetszirkel-Dramzentrum.jpg
END:VEVENT
BEGIN:VEVENT
DTSTART;TZID=Europe/Berlin:20250604T170000
DTEND;TZID=Europe/Berlin:20250604T210000
DTSTAMP:20260421T132105
CREATED:20250501T132617Z
LAST-MODIFIED:20250521T185503Z
UID:10000074-1749056400-1749070800@kreisaerzteschaft-heidenheim.de
SUMMARY:Lungenfunktionsseminar 2025
DESCRIPTION:Anmeldung erforderlich unter: \nBitte melden Sie sich via Email Claudia.Fehn@boehringer-ingelheim.com oder Fax: 06132/72 173 699 an\, unter Angabe von:\n• Titel\n• Vor-& Nachname\n• Praxis\n• Adresse
URL:https://kreisaerzteschaft-heidenheim.de/veranstaltung/lungenfunktionsseminar/
LOCATION:Klinikum Heidenheim  Raum B-2.135 (2 Stock – Ärztebesprechungsraum)\, Schlosshausstr. 100\, Heidenheim\, 89522
CATEGORIES:Fortbildungen der Kreisärzteschaft,Sonstige Veranstaltungen
ATTACH;FMTTYPE=image/jpeg:https://kreisaerzteschaft-heidenheim.de/wp-content/uploads/2024/04/kreisaerzteschaft-kreisaerzteschaft.jpg
END:VEVENT
BEGIN:VEVENT
DTSTART;TZID=Europe/Berlin:20250521T163000
DTEND;TZID=Europe/Berlin:20250521T180000
DTSTAMP:20260421T132105
CREATED:20250315T010448Z
LAST-MODIFIED:20250315T010448Z
UID:10000061-1747845000-1747850400@kreisaerzteschaft-heidenheim.de
SUMMARY:Interdisziplinäre Schmerzkonferenz
DESCRIPTION:
URL:https://kreisaerzteschaft-heidenheim.de/veranstaltung/interdisziplinaere-schmerzkonferenz-7/
LOCATION:Besprechungsraum K-0.404\, Schlosshausstraße 100\, Heidenheim\, 89522
CATEGORIES:Fortbildungen der Kreisärzteschaft
ATTACH;FMTTYPE=image/jpeg:https://kreisaerzteschaft-heidenheim.de/wp-content/uploads/2024/04/kreisaerzteschaft-kreisaerzteschaft.jpg
END:VEVENT
BEGIN:VEVENT
DTSTART;TZID=Europe/Berlin:20250514T180000
DTEND;TZID=Europe/Berlin:20250514T200000
DTSTAMP:20260421T132105
CREATED:20250321T221553Z
LAST-MODIFIED:20250510T104329Z
UID:10000067-1747245600-1747252800@kreisaerzteschaft-heidenheim.de
SUMMARY:Notfälle im Bereitschaftsdienst:            HNO und Psychiatrie
DESCRIPTION:Zusätzlich nutzen wir die Gelegenheit dieser Fortbildung\, den  neuen Chefarzt der neurologischen Abteilung am Klinikum Heidenheim ab dem 1.6.2025\, Herrn Dr. Burkhard Alber\, derzeit noch leitender Oberarzt der Neurologie am Bezirkskrankenhaus Günzburg in der Kreisärzteschaft Heidenheim willkommen zu heißen und ihm die Gelegenheit zu geben\, sich persönlich vorstellen zu können.
URL:https://kreisaerzteschaft-heidenheim.de/veranstaltung/notfaelle-im-bereitschaftsdienst-hno-und-psychiatrie/
LOCATION:Klinikum Heidenheim Hörsaal\, Schlosshausstraße 100\, Heidenheim\, Baden-Württemberg\, 89522\, Deutschland
CATEGORIES:Fortbildungen der Kreisärzteschaft
ATTACH;FMTTYPE=image/jpeg:https://kreisaerzteschaft-heidenheim.de/wp-content/uploads/2024/04/kreisaerzteschaft-kreisaerzteschaft.jpg
END:VEVENT
BEGIN:VEVENT
DTSTART;TZID=Europe/Berlin:20250430T163000
DTEND;TZID=Europe/Berlin:20250430T180000
DTSTAMP:20260421T132105
CREATED:20250315T010325Z
LAST-MODIFIED:20250315T010325Z
UID:10000060-1746030600-1746036000@kreisaerzteschaft-heidenheim.de
SUMMARY:Interdisziplinäre Schmerzkonferenz
DESCRIPTION:
URL:https://kreisaerzteschaft-heidenheim.de/veranstaltung/interdisziplinaere-schmerzkonferenz-6/
LOCATION:Besprechungsraum K-0.404\, Schlosshausstraße 100\, Heidenheim\, 89522
CATEGORIES:Fortbildungen der Kreisärzteschaft
ATTACH;FMTTYPE=image/jpeg:https://kreisaerzteschaft-heidenheim.de/wp-content/uploads/2024/04/kreisaerzteschaft-kreisaerzteschaft.jpg
END:VEVENT
BEGIN:VEVENT
DTSTART;TZID=Europe/Berlin:20250409T180000
DTEND;TZID=Europe/Berlin:20250409T200000
DTSTAMP:20260421T132105
CREATED:20250321T220729Z
LAST-MODIFIED:20250405T182027Z
UID:10000064-1744221600-1744228800@kreisaerzteschaft-heidenheim.de
SUMMARY:Sport mit Endoprothesen von Prof. Dr. Hellwig
DESCRIPTION:
URL:https://kreisaerzteschaft-heidenheim.de/veranstaltung/sport-mit-endoprothesen-von-prof-dr-hellwig/
LOCATION:Klinikum Heidenheim Hörsaal\, Schlosshausstraße 100\, Heidenheim\, Baden-Württemberg\, 89522\, Deutschland
CATEGORIES:Fortbildungen der Kreisärzteschaft
ATTACH;FMTTYPE=image/jpeg:https://kreisaerzteschaft-heidenheim.de/wp-content/uploads/2024/04/kreisaerzteschaft-kreisaerzteschaft.jpg
END:VEVENT
BEGIN:VEVENT
DTSTART;TZID=Europe/Berlin:20250312T170000
DTEND;TZID=Europe/Berlin:20250312T203000
DTSTAMP:20260421T132105
CREATED:20250120T062058Z
LAST-MODIFIED:20250223T172956Z
UID:10000059-1741798800-1741811400@kreisaerzteschaft-heidenheim.de
SUMMARY:Neuausrichtung der Allgemeinchirurgie am Klinikum HDH\, Vorstellung des Chefarztes Herrn Prof. Dr. Dr. Franck Billmann
DESCRIPTION:
URL:https://kreisaerzteschaft-heidenheim.de/veranstaltung/neuausrichtung-der-allgemeinchirurgie-am-klinikum-hdh-vorstellung-des-chefarztes-herrn-prof-dr-dr-franck-billmann/
LOCATION:Klinikum Heidenheim Hörsaal\, Schlosshausstraße 100\, Heidenheim\, Baden-Württemberg\, 89522\, Deutschland
CATEGORIES:Fortbildungen der Kreisärzteschaft
ATTACH;FMTTYPE=image/jpeg:https://kreisaerzteschaft-heidenheim.de/wp-content/uploads/2024/04/kreisaerzteschaft-kreisaerzteschaft.jpg
END:VEVENT
BEGIN:VEVENT
DTSTART;TZID=Europe/Berlin:20250212T180000
DTEND;TZID=Europe/Berlin:20250212T200000
DTSTAMP:20260421T132105
CREATED:20241015T185818Z
LAST-MODIFIED:20250202T052316Z
UID:10000055-1739383200-1739390400@kreisaerzteschaft-heidenheim.de
SUMMARY:4. Gesundheitskonferenz: "Effizienzsteigerung in der modernen Arztpraxis: Digitalisierung und Telemedizin"
DESCRIPTION:
URL:https://kreisaerzteschaft-heidenheim.de/veranstaltung/4-gesundheitskonferenz-effizienzsteigerung-in-der-modernen-arztpraxis-digitalisierung-und-telemedizin/
LOCATION:Klinikum Heidenheim Hörsaal\, Schlosshausstraße 100\, Heidenheim\, Baden-Württemberg\, 89522\, Deutschland
CATEGORIES:Fortbildungen der Kreisärzteschaft,Sonstige Veranstaltungen
ATTACH;FMTTYPE=image/jpeg:https://kreisaerzteschaft-heidenheim.de/wp-content/uploads/2024/04/kreisaerzteschaft-kreisaerzteschaft.jpg
END:VEVENT
BEGIN:VEVENT
DTSTART;TZID=Europe/Berlin:20250122T160000
DTEND;TZID=Europe/Berlin:20250122T180000
DTSTAMP:20260421T132105
CREATED:20250111T100309Z
LAST-MODIFIED:20250111T100734Z
UID:10000058-1737561600-1737568800@kreisaerzteschaft-heidenheim.de
SUMMARY:Erstes AiW-Treffen Allgemeinmedizin
DESCRIPTION:
URL:https://kreisaerzteschaft-heidenheim.de/veranstaltung/erstes-aiw-treffen-allgemeinmedizin/
LOCATION:Gesundheitsamt Konferenzraum\, Felsenstraße 36\, Haus B\, Heidenheim\, 89522
CATEGORIES:Fortbildungen der Kreisärzteschaft
ATTACH;FMTTYPE=image/jpeg:https://kreisaerzteschaft-heidenheim.de/wp-content/uploads/2024/05/aerzteschaft-heidenheim-hero-links.jpg
END:VEVENT
END:VCALENDAR