BEGIN:VCALENDAR
VERSION:2.0
PRODID:-//kreisaerzteschaft-heidenheim - ECPv6.15.17//NONSGML v1.0//EN
CALSCALE:GREGORIAN
METHOD:PUBLISH
X-WR-CALNAME:kreisaerzteschaft-heidenheim
X-ORIGINAL-URL:https://kreisaerzteschaft-heidenheim.de
X-WR-CALDESC:Veranstaltungen für kreisaerzteschaft-heidenheim
REFRESH-INTERVAL;VALUE=DURATION:PT1H
X-Robots-Tag:noindex
X-PUBLISHED-TTL:PT1H
BEGIN:VTIMEZONE
TZID:Europe/Berlin
BEGIN:DAYLIGHT
TZOFFSETFROM:+0100
TZOFFSETTO:+0200
TZNAME:CEST
DTSTART:20230326T010000
END:DAYLIGHT
BEGIN:STANDARD
TZOFFSETFROM:+0200
TZOFFSETTO:+0100
TZNAME:CET
DTSTART:20231029T010000
END:STANDARD
BEGIN:DAYLIGHT
TZOFFSETFROM:+0100
TZOFFSETTO:+0200
TZNAME:CEST
DTSTART:20240331T010000
END:DAYLIGHT
BEGIN:STANDARD
TZOFFSETFROM:+0200
TZOFFSETTO:+0100
TZNAME:CET
DTSTART:20241027T010000
END:STANDARD
BEGIN:DAYLIGHT
TZOFFSETFROM:+0100
TZOFFSETTO:+0200
TZNAME:CEST
DTSTART:20250330T010000
END:DAYLIGHT
BEGIN:STANDARD
TZOFFSETFROM:+0200
TZOFFSETTO:+0100
TZNAME:CET
DTSTART:20251026T010000
END:STANDARD
BEGIN:DAYLIGHT
TZOFFSETFROM:+0100
TZOFFSETTO:+0200
TZNAME:CEST
DTSTART:20260329T010000
END:DAYLIGHT
BEGIN:STANDARD
TZOFFSETFROM:+0200
TZOFFSETTO:+0100
TZNAME:CET
DTSTART:20261025T010000
END:STANDARD
END:VTIMEZONE
BEGIN:VEVENT
DTSTART;TZID=Europe/Berlin:20251119T190000
DTEND;TZID=Europe/Berlin:20251119T190000
DTSTAMP:20260421T163620
CREATED:20250916T171339Z
LAST-MODIFIED:20250916T171935Z
UID:10000082-1763578800-1763578800@kreisaerzteschaft-heidenheim.de
SUMMARY:In 60 min zum "kleinen Dermatologen" - ein Streifzug durch die moderne Dermatologie
DESCRIPTION:
URL:https://kreisaerzteschaft-heidenheim.de/veranstaltung/in-90-min-zum-kleinen-dermatologen-gemeinsame-fortbildung-der-drei-aerzteschaften/
LOCATION:Landhotel Wental\, 73566 Wental\, Im Wental 1
CATEGORIES:Fortbildungen der Kreisärzteschaft
ATTACH;FMTTYPE=image/jpeg:https://kreisaerzteschaft-heidenheim.de/wp-content/uploads/2024/04/kreisaerzteschaft-kreisaerzteschaft.jpg
END:VEVENT
BEGIN:VEVENT
DTSTART;TZID=Europe/Berlin:20241002T190000
DTEND;TZID=Europe/Berlin:20241002T210000
DTSTAMP:20260421T163620
CREATED:20240712T181933Z
LAST-MODIFIED:20240926T194444Z
UID:10000029-1727895600-1727902800@kreisaerzteschaft-heidenheim.de
SUMMARY:Kindernotfälle- was ist im Notdienst relevant ?
DESCRIPTION:
URL:https://kreisaerzteschaft-heidenheim.de/veranstaltung/kindernotfaelle-2/
LOCATION:Landhotel Wental\, 73566 Wental\, Im Wental 1
CATEGORIES:Fortbildungen der Kreisärzteschaft
ATTACH;FMTTYPE=image/jpeg:https://kreisaerzteschaft-heidenheim.de/wp-content/uploads/2024/04/kreisaerzteschaft-kreisaerzteschaft.jpg
END:VEVENT
END:VCALENDAR